BEGIN:VCALENDAR
VERSION:2.0
PRODID:-//Peacock Township - ECPv6.15.20//NONSGML v1.0//EN
CALSCALE:GREGORIAN
METHOD:PUBLISH
X-ORIGINAL-URL:https://peacocktownship.org
X-WR-CALDESC:Events for Peacock Township
REFRESH-INTERVAL;VALUE=DURATION:PT1H
X-Robots-Tag:noindex
X-PUBLISHED-TTL:PT1H
BEGIN:VTIMEZONE
TZID:UTC
BEGIN:STANDARD
TZOFFSETFROM:+0000
TZOFFSETTO:+0000
TZNAME:UTC
DTSTART:20240101T000000
END:STANDARD
END:VTIMEZONE
BEGIN:VEVENT
DTSTART;TZID=UTC:20250702T150000
DTEND;TZID=UTC:20250702T180000
DTSTAMP:20260421T235839
CREATED:20250521T133430Z
LAST-MODIFIED:20250521T133430Z
UID:1432-1751468400-1751479200@peacocktownship.org
SUMMARY:Pure Markette
DESCRIPTION:
URL:https://peacocktownship.org/event/pure-markette-5/
END:VEVENT
BEGIN:VEVENT
DTSTART;TZID=UTC:20250709T150000
DTEND;TZID=UTC:20250709T180000
DTSTAMP:20260421T235839
CREATED:20250521T133519Z
LAST-MODIFIED:20250521T133519Z
UID:1434-1752073200-1752084000@peacocktownship.org
SUMMARY:Pure Markette
DESCRIPTION:
URL:https://peacocktownship.org/event/pure-markette-6/
END:VEVENT
BEGIN:VEVENT
DTSTART;TZID=UTC:20250710T183000
DTEND;TZID=UTC:20250710T183000
DTSTAMP:20260421T235839
CREATED:20250103T152848Z
LAST-MODIFIED:20250103T152848Z
UID:1358-1752172200-1752172200@peacocktownship.org
SUMMARY:Planning Committee Meeting
DESCRIPTION:Planning Committee Meeting 6:30 PM
URL:https://peacocktownship.org/event/planning-committee-meeting-9/
END:VEVENT
BEGIN:VEVENT
DTSTART;TZID=UTC:20250716T150000
DTEND;TZID=UTC:20250716T180000
DTSTAMP:20260421T235839
CREATED:20250521T133635Z
LAST-MODIFIED:20250521T133635Z
UID:1436-1752678000-1752688800@peacocktownship.org
SUMMARY:Pure Markette
DESCRIPTION:
URL:https://peacocktownship.org/event/pure-markette-7/
END:VEVENT
BEGIN:VEVENT
DTSTART;TZID=UTC:20250723T150000
DTEND;TZID=UTC:20250723T180000
DTSTAMP:20260421T235839
CREATED:20250521T135549Z
LAST-MODIFIED:20250521T135549Z
UID:1453-1753282800-1753293600@peacocktownship.org
SUMMARY:Pure Markette
DESCRIPTION:
URL:https://peacocktownship.org/event/pure-markette-13/
END:VEVENT
BEGIN:VEVENT
DTSTART;TZID=UTC:20250723T183000
DTEND;TZID=UTC:20250723T183000
DTSTAMP:20260421T235839
CREATED:20250127T214321Z
LAST-MODIFIED:20250127T214321Z
UID:1371-1753295400-1753295400@peacocktownship.org
SUMMARY:Board Meeting
DESCRIPTION:Agenda
URL:https://peacocktownship.org/event/board-meeting-27/
END:VEVENT
BEGIN:VEVENT
DTSTART;TZID=UTC:20250730T150000
DTEND;TZID=UTC:20250730T180000
DTSTAMP:20260421T235839
CREATED:20250521T133748Z
LAST-MODIFIED:20250521T133748Z
UID:1438-1753887600-1753898400@peacocktownship.org
SUMMARY:Pure Markette
DESCRIPTION:
URL:https://peacocktownship.org/event/pure-markette-8/
END:VEVENT
END:VCALENDAR