BEGIN:VCALENDAR
VERSION:2.0
PRODID:-//Peacock Township - ECPv6.15.20//NONSGML v1.0//EN
CALSCALE:GREGORIAN
METHOD:PUBLISH
X-WR-CALNAME:Peacock Township
X-ORIGINAL-URL:https://peacocktownship.org
X-WR-CALDESC:Events for Peacock Township
REFRESH-INTERVAL;VALUE=DURATION:PT1H
X-Robots-Tag:noindex
X-PUBLISHED-TTL:PT1H
BEGIN:VTIMEZONE
TZID:UTC
BEGIN:STANDARD
TZOFFSETFROM:+0000
TZOFFSETTO:+0000
TZNAME:UTC
DTSTART:20240101T000000
END:STANDARD
END:VTIMEZONE
BEGIN:VEVENT
DTSTART;TZID=UTC:20251009T183000
DTEND;TZID=UTC:20251009T183000
DTSTAMP:20260421T204209
CREATED:20250103T153025Z
LAST-MODIFIED:20250103T153025Z
UID:1360-1760034600-1760034600@peacocktownship.org
SUMMARY:Planning Committee Meeting
DESCRIPTION:Planning Committee Meeting 6:30 PM
URL:https://peacocktownship.org/event/planning-committee-meeting-10/
END:VEVENT
END:VCALENDAR