BEGIN:VCALENDAR
VERSION:2.0
PRODID:-//Peacock Township - ECPv6.15.20//NONSGML v1.0//EN
CALSCALE:GREGORIAN
METHOD:PUBLISH
X-ORIGINAL-URL:https://peacocktownship.org
X-WR-CALDESC:Events for Peacock Township
REFRESH-INTERVAL;VALUE=DURATION:PT1H
X-Robots-Tag:noindex
X-PUBLISHED-TTL:PT1H
BEGIN:VTIMEZONE
TZID:UTC
BEGIN:STANDARD
TZOFFSETFROM:+0000
TZOFFSETTO:+0000
TZNAME:UTC
DTSTART:20240101T000000
END:STANDARD
END:VTIMEZONE
BEGIN:VEVENT
DTSTART;TZID=UTC:20250827T150000
DTEND;TZID=UTC:20250827T180000
DTSTAMP:20260421T235817
CREATED:20250521T134408Z
LAST-MODIFIED:20250521T134408Z
UID:1446-1756306800-1756317600@peacocktownship.org
SUMMARY:Pure Markette
DESCRIPTION:
URL:https://peacocktownship.org/event/pure-markette-12/
END:VEVENT
BEGIN:VEVENT
DTSTART;TZID=UTC:20250827T183000
DTEND;TZID=UTC:20250827T183000
DTSTAMP:20260421T235817
CREATED:20250127T214413Z
LAST-MODIFIED:20250127T214413Z
UID:1373-1756319400-1756319400@peacocktownship.org
SUMMARY:Board Meeting
DESCRIPTION:Agenda
URL:https://peacocktownship.org/event/board-meeting-28/
END:VEVENT
END:VCALENDAR