BEGIN:VCALENDAR
VERSION:2.0
PRODID:-//Peacock Township - ECPv6.15.20//NONSGML v1.0//EN
CALSCALE:GREGORIAN
METHOD:PUBLISH
X-WR-CALNAME:Peacock Township
X-ORIGINAL-URL:https://peacocktownship.org
X-WR-CALDESC:Events for Peacock Township
REFRESH-INTERVAL;VALUE=DURATION:PT1H
X-Robots-Tag:noindex
X-PUBLISHED-TTL:PT1H
BEGIN:VTIMEZONE
TZID:UTC
BEGIN:STANDARD
TZOFFSETFROM:+0000
TZOFFSETTO:+0000
TZNAME:UTC
DTSTART:20240101T000000
END:STANDARD
END:VTIMEZONE
BEGIN:VEVENT
DTSTART;TZID=UTC:20250807T140000
DTEND;TZID=UTC:20250807T180000
DTSTAMP:20260421T235708
CREATED:20250521T135058Z
LAST-MODIFIED:20250528T182520Z
UID:1448-1754575200-1754589600@peacocktownship.org
SUMMARY:Household Hazardous Waste Disposal Day - Location of 4737 Makwa Dr
DESCRIPTION:Large item Mattresses are $15 each and no concrete\, land timber\, and no hazardous waste.
URL:https://peacocktownship.org/event/household-hazardous-waste-disposal-day-2/
END:VEVENT
END:VCALENDAR