BEGIN:VCALENDAR
VERSION:2.0
PRODID:-//Peacock Township - ECPv6.15.20//NONSGML v1.0//EN
CALSCALE:GREGORIAN
METHOD:PUBLISH
X-ORIGINAL-URL:https://peacocktownship.org
X-WR-CALDESC:Events for Peacock Township
REFRESH-INTERVAL;VALUE=DURATION:PT1H
X-Robots-Tag:noindex
X-PUBLISHED-TTL:PT1H
BEGIN:VTIMEZONE
TZID:UTC
BEGIN:STANDARD
TZOFFSETFROM:+0000
TZOFFSETTO:+0000
TZNAME:UTC
DTSTART:20240101T000000
END:STANDARD
END:VTIMEZONE
BEGIN:VEVENT
DTSTART;TZID=UTC:20250625T150000
DTEND;TZID=UTC:20250625T180000
DTSTAMP:20260422T033412
CREATED:20250521T133335Z
LAST-MODIFIED:20250521T133335Z
UID:1430-1750863600-1750874400@peacocktownship.org
SUMMARY:Pure Markette
DESCRIPTION:
URL:https://peacocktownship.org/event/pure-markette-4/
END:VEVENT
BEGIN:VEVENT
DTSTART;TZID=UTC:20250625T183000
DTEND;TZID=UTC:20250625T183000
DTSTAMP:20260422T033412
CREATED:20250127T214220Z
LAST-MODIFIED:20250127T214220Z
UID:1369-1750876200-1750876200@peacocktownship.org
SUMMARY:Board Meeting
DESCRIPTION:Agenda
URL:https://peacocktownship.org/event/board-meeting-26/
END:VEVENT
END:VCALENDAR